BEGIN:VCALENDAR
VERSION:2.0
PRODID:-//eventon.com NONSGML v1.0//EN
CALSCALE:GREGORIAN
METHOD:PUBLISH
BEGIN:VEVENT
UID:69e6339693d4f
DTSTAMP:20260420T140926Z
DTSTART:20250620T193000Z
DTEND:20250705T223000Z
LOCATION:
SUMMARY:2 weeks of evangelism in Marseille
DESCRIPTION:“How then shall they call on Him in whom they have not believ
 ed? And how shall they believe in Him of whom they have not heard? And how 
 shall they hear without a preacher?” -Romans 10:14 MORE THAN EVER\,  EURO
 PE IS IN DIRE NEED OF THE TRUE\,  UNFILTERED MESSAGE OF[..]\nhttps://togeth
 erweplant.com/events/2-weeks-of-evangelism-in-marseille/
URL:https://togetherweplant.com/events/2-weeks-of-evangelism-in-marseille/
END:VEVENT
END:VCALENDAR