BEGIN:VCALENDAR
VERSION:2.0
PRODID:-//eventon.com NONSGML v1.0//EN
CALSCALE:GREGORIAN
METHOD:PUBLISH
BEGIN:VEVENT
UID:69e60e26320ae
DTSTAMP:20260420T112942Z
DTSTART:19700101
DTEND:19700102
LOCATION:
SUMMARY:Formation parcours en ligne
DESCRIPTION:Together We Plant est là t&rsquo;équiper afin de devenir mult
 iplicateur de la vie de Jésus. Si tu veux le vivre dans ta propre vie\,  t
 u peux t&rsquo;inscrire à cette formation en ligne gratuite et ainsi faire
  partie du mouvement que Dieu réalise dans le monde entier. C&rsquo;est un
  mouvement de[..]\nhttps://togetherweplant.com/events/formation-en-ligne/
URL:https://togetherweplant.com/events/formation-en-ligne/
END:VEVENT
END:VCALENDAR