BEGIN:VCALENDAR
VERSION:2.0
PRODID:-//eventon.com NONSGML v1.0//EN
CALSCALE:GREGORIAN
METHOD:PUBLISH
BEGIN:VEVENT
UID:69e5fbe604ade
DTSTAMP:20260420T101150Z
DTSTART:20250629T160000Z
DTEND:20250629T220000Z
LOCATION:
SUMMARY:Dôme au ciel
DESCRIPTION:La Bible dit la moisson est grande mais il y a peu d&rsquo;ouvr
 iers (Luc 10:2). Marseille c&rsquo;est le moment de se lever\,  c&rsquo;est
  le temps de s&rsquo;unir et d&rsquo;avancer ensemble parce que la moisson 
 est lancée ! Rendez-vous le DIMANCHE 29 JUIN 2025 au dôme de Marseille po
 ur une journée[..]\nhttps://togetherweplant.com/events/dome-au-ciel/
URL:https://togetherweplant.com/events/dome-au-ciel/
END:VEVENT
END:VCALENDAR