BEGIN:VCALENDAR
VERSION:2.0
PRODID:-//eventon.com NONSGML v1.0//EN
CALSCALE:GREGORIAN
METHOD:PUBLISH
BEGIN:VEVENT
UID:69e9ea4a44b59
DTSTAMP:20260423T094546Z
DTSTART:20221028T170000Z
DTEND:20221028T190000Z
LOCATION:https://us02web.zoom.us/j/89863804736
SUMMARY:Entrainement Multiplicateur 1x1
DESCRIPTION:Contenu / Thèmes Cette formation en ligne t&rsquo;aidera à de
 venir un multiplicateur 1&#215;1 dans ta vie quotidienne. Tu apprendras com
 ment atteindre les gens avec l&rsquo;Evangile et multiplier les disciples p
 ar la puissance du Saint-Esprit. Ce webinaire est gratuit\,  mais il faut s
 &rsquo;inscrire à l&rsquo;avance. Le contenu : Vision de Dieu[..]\nhttps:/
 /togetherweplant.com/events/entrainement-multiplicateur-1x1/var/event_acces
 s
URL:https://togetherweplant.com/events/entrainement-multiplicateur-1x1/var/event_access
END:VEVENT
END:VCALENDAR