BEGIN:VCALENDAR
VERSION:2.0
PRODID:-//eventon.com NONSGML v1.0//EN
CALSCALE:GREGORIAN
METHOD:PUBLISH
BEGIN:VEVENT
UID:69ecbb379f6d7
DTSTAMP:20260425T130143Z
DTSTART:20220908T170000Z
DTEND:20220908T190000Z
LOCATION:https://us02web.zoom.us/j/89863804736
SUMMARY:1X1 Multiplikator Training
DESCRIPTION:Inhalt / Themen Diese online Schulung wird dir helfen ein 1&#21
 5;1 Multiplikator in deinem Alltag zu werden. Du wirst lernen wie du Mensch
 en mit dem Evangelium erreichst und Jünger multiplizierst in der Kraft des
  Heiligen Geistes. Dieses Webinar ist gratis\,  jedoch muss man sich im Vor
 hinein anmelden. Der Inhalt: Vision[..]\nhttps://togetherweplant.com/events
 /1x1-multiplikator-training/var/event_access
URL:https://togetherweplant.com/events/1x1-multiplikator-training/var/event_access
END:VEVENT
END:VCALENDAR