BEGIN:VCALENDAR
VERSION:2.0
PRODID:-//eventon.com NONSGML v1.0//EN
CALSCALE:GREGORIAN
METHOD:PUBLISH
BEGIN:VEVENT
UID:69ecd2c110f54
DTSTAMP:20260425T144209Z
DTSTART:20220228
DTEND:20220301
LOCATION:Guadeloupe Pointe a Pitre
SUMMARY:MT Mission Guadeloupe
DESCRIPTION:MT Mission Guadeloupe\nhttps://togetherweplant.com/events/mt-mi
 ssion-guadeloupe-3/
URL:https://togetherweplant.com/events/mt-mission-guadeloupe-3/
END:VEVENT
END:VCALENDAR