BEGIN:VCALENDAR
VERSION:2.0
PRODID:-//eventon.com NONSGML v1.0//EN
CALSCALE:GREGORIAN
METHOD:PUBLISH
BEGIN:VEVENT
UID:69ece596696d1
DTSTAMP:20260425T160230Z
DTSTART:20220720
DTEND:20220721
LOCATION:EPP Marseille 09 rue caisserie\,  13002
SUMMARY:SUMMER O´ 2022
DESCRIPTION:Summer O´ is a disciple multiplication camp in the summer in M
 arseille. Do you want to live a lifestyles that is similar to Jesus’ and 
 multiply the life of the Holy Spirit in you? Then the Summer O is a good mo
 ment for you. You will experience a new dimension[..]\nhttps://togetherwepl
 ant.com/events/summer-o-2022-3/
URL:https://togetherweplant.com/events/summer-o-2022-3/
END:VEVENT
END:VCALENDAR