BEGIN:VCALENDAR
VERSION:2.0
PRODID:-//eventon.com NONSGML v1.0//EN
CALSCALE:GREGORIAN
METHOD:PUBLISH
BEGIN:VEVENT
UID:69ed385634332
DTSTAMP:20260425T215534Z
DTSTART:20211126
DTEND:20211127
LOCATION:Chambery 121 Allée Albert Sylvestre
SUMMARY:MT Chambéry
DESCRIPTION:Rejoins une mobile team qui se rend à Chambery pour connecter 
 avec des personnes sur place afin de partager ensemble et vivre un style de
  vie en temoignant sur Jésus ! Au programme: temps convivial\,  sorties po
 ur partager Jésus\,  enseignement\,  du fun ! Si tu veux savoir d’avanta
 ge et/ou t’inscrire\, [..]\nhttps://togetherweplant.com/events/mt-chamber
 y/
URL:https://togetherweplant.com/events/mt-chambery/
END:VEVENT
END:VCALENDAR