BEGIN:VCALENDAR
VERSION:2.0
PRODID:-//eventon.com NONSGML v1.0//EN
CALSCALE:GREGORIAN
METHOD:PUBLISH
BEGIN:VEVENT
UID:69ed7377d9f1c
DTSTAMP:20260426T020751Z
DTSTART:20211016
DTEND:20211017
LOCATION:Avignon Avignon
SUMMARY:MT Avignon
DESCRIPTION:Rejoins une mobile team qui se rend à Avignon pour connecter a
 vec des personnes sur place afin de partager ensemble et vivre un style de 
 vie en temoignant sur Jésus ! Au programme: temps convivial\,  sorties pou
 r partager Jésus\,  enseignement\,  du fun ! Si tu veux savoir d’avantag
 e et/ou t’inscrire\, [..]\nhttps://togetherweplant.com/events/mt-avignon/
URL:https://togetherweplant.com/events/mt-avignon/
END:VEVENT
END:VCALENDAR