BEGIN:VCALENDAR
VERSION:2.0
PRODID:-//eventon.com NONSGML v1.0//EN
CALSCALE:GREGORIAN
METHOD:PUBLISH
BEGIN:VEVENT
UID:69ed4c1541ca4
DTSTAMP:20260425T231949Z
DTSTART:20211030
DTEND:20211031
LOCATION:Nice 11 Passage Grégoire\,  06000
SUMMARY:MT Nice
DESCRIPTION:Rejoins une mobile team qui se rend à Nice pour connecter avec
  des personnes sur place afin de partager ensemble et vivre un style de vie
  en temoignant sur Jésus ! Au programme: temps convivial\,  sorties pour p
 artager Jésus\,  enseignement\,  du fun ! Si tu veux savoir d’avantage e
 t/ou t’inscrire\, [..]\nhttps://togetherweplant.com/events/mt-nice/
URL:https://togetherweplant.com/events/mt-nice/
END:VEVENT
END:VCALENDAR