BEGIN:VCALENDAR
VERSION:2.0
PRODID:-//eventon.com NONSGML v1.0//EN
CALSCALE:GREGORIAN
METHOD:PUBLISH
BEGIN:VEVENT
UID:69ed72be55959
DTSTAMP:20260426T020446Z
DTSTART:20210723
DTEND:20210724
LOCATION:EPP Marseille 09 rue caisserie\,  13002
SUMMARY:Summer O' 2021
DESCRIPTION:is a disciple multiplication camp in the summer in Marseille. D
 o you want to live a lifestyles that is similar to Jesus’ and multiply th
 e life of the Holy Spirit in you? Then the Summer O is a good moment for yo
 u. You will experience a new dimension with Jesus[..]\nhttps://togetherwepl
 ant.com/events/summer-o-2021-3/
URL:https://togetherweplant.com/events/summer-o-2021-3/
END:VEVENT
END:VCALENDAR