BEGIN:VCALENDAR
VERSION:2.0
PRODID:-//eventon.com NONSGML v1.0//EN
CALSCALE:GREGORIAN
METHOD:PUBLISH
BEGIN:VEVENT
UID:69ed85e66eeb7
DTSTAMP:20260426T032630Z
DTSTART:20220315
DTEND:20220316
LOCATION:République démocratique du Congo Kabinda
SUMMARY:MT Mission RD du Congo
DESCRIPTION:La vie avec Jésus est comparable à celle d’une famille. Nou
 s croyons qu’en tant que croyants en jésus nous avons reçu l’appel de
  Dieu pour vivre la dimension du royaume de Dieu dans notre entourage\,  de
 s relations saines\,  un amour vrai et authentique\,  un épanouissement da
 ns le service de Dieu.[..]\nhttps://togetherweplant.com/events/mt-mission-a
 u-congo/
URL:https://togetherweplant.com/events/mt-mission-au-congo/
END:VEVENT
END:VCALENDAR